BEGIN:VCALENDAR
VERSION:2.0
PRODID:-//BAMSI - ECPv6.15.20//NONSGML v1.0//EN
CALSCALE:GREGORIAN
METHOD:PUBLISH
X-ORIGINAL-URL:https://www.bamsi.org
X-WR-CALDESC:Events for BAMSI
REFRESH-INTERVAL;VALUE=DURATION:PT1H
X-Robots-Tag:noindex
X-PUBLISHED-TTL:PT1H
BEGIN:VTIMEZONE
TZID:America/New_York
BEGIN:DAYLIGHT
TZOFFSETFROM:-0500
TZOFFSETTO:-0400
TZNAME:EDT
DTSTART:20250309T070000
END:DAYLIGHT
BEGIN:STANDARD
TZOFFSETFROM:-0400
TZOFFSETTO:-0500
TZNAME:EST
DTSTART:20251102T060000
END:STANDARD
BEGIN:DAYLIGHT
TZOFFSETFROM:-0500
TZOFFSETTO:-0400
TZNAME:EDT
DTSTART:20260308T070000
END:DAYLIGHT
BEGIN:STANDARD
TZOFFSETFROM:-0400
TZOFFSETTO:-0500
TZNAME:EST
DTSTART:20261101T060000
END:STANDARD
BEGIN:DAYLIGHT
TZOFFSETFROM:-0500
TZOFFSETTO:-0400
TZNAME:EDT
DTSTART:20270314T070000
END:DAYLIGHT
BEGIN:STANDARD
TZOFFSETFROM:-0400
TZOFFSETTO:-0500
TZNAME:EST
DTSTART:20271107T060000
END:STANDARD
END:VTIMEZONE
BEGIN:VEVENT
DTSTART;TZID=America/New_York:20260507T110000
DTEND;TZID=America/New_York:20260507T140000
DTSTAMP:20260424T192848
CREATED:20260414T171211Z
LAST-MODIFIED:20260416T045351Z
UID:7418-1778151600-1778162400@www.bamsi.org
SUMMARY:DMH Community Health and Wellness Fair 2026: More Good Days Together 
DESCRIPTION:DMH Community Health & Wellness Fair 2026: More Good Days Together \nThur. May 7\, 2026 | 11:00 AM – 2:00 PM \nDMH Southeast Regional Office \n165 Quincy St\, Brockton\, MA 02302 \nThe Department of Mental Health in partnership with BAMSI’s All Things Possible are proud to host this year’s Community Health & Wellness Fair with the theme\, More Good Days Together. \nJoin us as we celebrate Mental Health Month by bringing individuals and families together for health and wellness activities and opportunities to connect with local organizations\, nonprofits\, and government services all in one convenient location. \nThis event focuses on connecting people to helpful services and resources while creating a fun\, engaging\, and welcoming community environment. \nAttendees can enjoy:  \n\nFree health screenings  \nAerobics and yoga sessions  \nGames and giveaways  \nMusic from a live DJ  \nFree photo booth  \nFood and refreshments  \n\nThis event is open to all individuals and families.  \nVendors  \nIf you are a vendor interested in attending\, please visit: bamsi.info/DMHFair2026 to sign up.
URL:https://www.bamsi.org/event/dmh-community-resource-fair-2026/
LOCATION:Department of Mental Health\, 165 Quincy Street\, Brockton
END:VEVENT
END:VCALENDAR