BEGIN:VCALENDAR
VERSION:2.0
PRODID:-//BAMSI - ECPv6.15.20//NONSGML v1.0//EN
CALSCALE:GREGORIAN
METHOD:PUBLISH
X-ORIGINAL-URL:https://www.bamsi.org
X-WR-CALDESC:Events for BAMSI
REFRESH-INTERVAL;VALUE=DURATION:PT1H
X-Robots-Tag:noindex
X-PUBLISHED-TTL:PT1H
BEGIN:VTIMEZONE
TZID:America/New_York
BEGIN:DAYLIGHT
TZOFFSETFROM:-0500
TZOFFSETTO:-0400
TZNAME:EDT
DTSTART:20250309T070000
END:DAYLIGHT
BEGIN:STANDARD
TZOFFSETFROM:-0400
TZOFFSETTO:-0500
TZNAME:EST
DTSTART:20251102T060000
END:STANDARD
BEGIN:DAYLIGHT
TZOFFSETFROM:-0500
TZOFFSETTO:-0400
TZNAME:EDT
DTSTART:20260308T070000
END:DAYLIGHT
BEGIN:STANDARD
TZOFFSETFROM:-0400
TZOFFSETTO:-0500
TZNAME:EST
DTSTART:20261101T060000
END:STANDARD
BEGIN:DAYLIGHT
TZOFFSETFROM:-0500
TZOFFSETTO:-0400
TZNAME:EDT
DTSTART:20270314T070000
END:DAYLIGHT
BEGIN:STANDARD
TZOFFSETFROM:-0400
TZOFFSETTO:-0500
TZNAME:EST
DTSTART:20271107T060000
END:STANDARD
END:VTIMEZONE
BEGIN:VEVENT
DTSTART;TZID=America/New_York:20260530T110000
DTEND;TZID=America/New_York:20260530T150000
DTSTAMP:20260424T223659
CREATED:20260317T153956Z
LAST-MODIFIED:20260416T045151Z
UID:7355-1780138800-1780153200@www.bamsi.org
SUMMARY:BAMSI Pride 2026
DESCRIPTION:BAMSI Pride:\nMay 30\, 2026 | 11:00 AM – 3:00 PM | 10 Christy’s Dr.\, Brockton\, MA\n\nJoin us for the 3rd Annual BAMSI Pride as we celebrate our vibrant LGBTQIA+ community and the power of belonging\, pride\, and connection. \nWe’ll have food\, music\, live entertainment by drag performer Nervous\, face painting\, local vendors\, and community resource tables.  \nFree HIV\, Hep C\, and STI testing will also be available\, courtesy of BAMSI’s COPE programs.  \n\n\n \nWant to get involved?\nRegister for a free community resource table or a $25 vendor table here: bamsi.info/pride2026 \nTo be one of our sponsors\, please email sarahgonet@bamsi.org.
URL:https://www.bamsi.org/event/bamsi-pride/
LOCATION:10 Christy’s Drive Brockton\, MA 02301\, 10 Christy's Drive\, Brockton\, MA\, 02301\, United States
ATTACH;FMTTYPE=image/png:https://www.bamsi.org/wp-content/uploads/2026/03/Pride-Event-Flyer-2026.png
END:VEVENT
BEGIN:VEVENT
DTSTART;TZID=America/New_York:20260924T113000
DTEND;TZID=America/New_York:20260924T210000
DTSTAMP:20260424T223659
CREATED:20260128T160547Z
LAST-MODIFIED:20260414T130006Z
UID:7295-1790249400-1790283600@www.bamsi.org
SUMMARY:BAMSI Golf Tournament & 19th Hole Jam Session
DESCRIPTION:BAMSI Golf Tournament\n21st Annual | Driving Change: Empowering Lives\nThe BAMSI Golf Tournament is a premier fundraising event that brings together corporate partners\, community leaders\, and supporters for a full day on the course at Waverly Oaks Golf Club in Plymouth. The event combines competitive play with networking and shared purpose\, all in support of BAMSI’s mission. \nThe day concludes with an awards dinner and the 19th Hole Jam Session (details below) featuring a live performance by the acclaimed Boston Higashi School Jazz Band. \nProceeds from the tournament support BAMSI’s programs and services\, serving more than 30\,000 individuals and families each year across Massachusetts and creating equal opportunities for those with developmental disabilities and mental and behavioral health challenges. \nLocation\nWaverly Oaks Golf Club in Plymouth\, Massachusetts. \nDate & Time:\nThursday\, September 24\, 2026 \n10:00 AM | Registration Opens\n11:30 AM | Shotgun Start\n5:00 PM | Dinner and Jam Session featuring the Boston Higashi School Jazz Band \nSponsorship\nSponsors receive high-visibility recognition through on-course signage\, digital promotion\, and features across BAMSI’s website and social media channels\, while directly supporting programs that make a meaningful difference across the region. \nTo learn more about sponsorship opportunities and levels\, view our Sponsorship Levels Guide\, or become a sponsor by completing our Sponsorship Form. \n\n\n\n19th Hole Jam Session\n\n\nA Night of Music\, Community\, and Celebration\nNot a golfer? No problem! After the tournament\, join us for an evening of music\, food\, and celebration featuring a live performance by the acclaimed Boston Higashi School Jazz Band. Come for the rhythm\, stay for the celebration. \nLocation\nWaverly Oaks Golf Club in Plymouth\, Massachusetts. \nDate & Time\nThursday\, September 24\, 2026\n5:00 PM | Dinner & live performance by the Boston Higashi School Jazz Band \nJam Session Sponsorship\nSponsors receive prominent recognition throughout the event\, along with digital and social media promotion\, while aligning their brand with a meaningful community experience that supports programs serving more than 30\,000 individuals and families each year. \nTo learn more about sponsorship opportunities and levels\, view our Sponsorship Levels Guide\, or become a sponsor by completing our Sponsorship Form.
URL:https://www.bamsi.org/event/bamsi-golf-tournament/
LOCATION:Waverly Oaks Golf Club\, 444 Long Pond Road\, Plymouth\, MA\, United States
END:VEVENT
END:VCALENDAR